BEGIN:VCALENDAR
VERSION:2.0
PRODID:-//Paul Dyson for Texas - ECPv6.15.20//NONSGML v1.0//EN
CALSCALE:GREGORIAN
METHOD:PUBLISH
X-ORIGINAL-URL:https://dysonfortexas.com
X-WR-CALDESC:Events for Paul Dyson for Texas
REFRESH-INTERVAL;VALUE=DURATION:PT1H
X-Robots-Tag:noindex
X-PUBLISHED-TTL:PT1H
BEGIN:VTIMEZONE
TZID:UTC
BEGIN:STANDARD
TZOFFSETFROM:+0000
TZOFFSETTO:+0000
TZNAME:UTC
DTSTART:20230101T000000
END:STANDARD
END:VTIMEZONE
BEGIN:VTIMEZONE
TZID:America/Chicago
BEGIN:DAYLIGHT
TZOFFSETFROM:-0600
TZOFFSETTO:-0500
TZNAME:CDT
DTSTART:20230312T080000
END:DAYLIGHT
BEGIN:STANDARD
TZOFFSETFROM:-0500
TZOFFSETTO:-0600
TZNAME:CST
DTSTART:20231105T070000
END:STANDARD
BEGIN:DAYLIGHT
TZOFFSETFROM:-0600
TZOFFSETTO:-0500
TZNAME:CDT
DTSTART:20240310T080000
END:DAYLIGHT
BEGIN:STANDARD
TZOFFSETFROM:-0500
TZOFFSETTO:-0600
TZNAME:CST
DTSTART:20241103T070000
END:STANDARD
BEGIN:DAYLIGHT
TZOFFSETFROM:-0600
TZOFFSETTO:-0500
TZNAME:CDT
DTSTART:20250309T080000
END:DAYLIGHT
BEGIN:STANDARD
TZOFFSETFROM:-0500
TZOFFSETTO:-0600
TZNAME:CST
DTSTART:20251102T070000
END:STANDARD
END:VTIMEZONE
BEGIN:VEVENT
DTSTART;TZID=UTC:20241105T183000
DTEND;TZID=UTC:20241105T223000
DTSTAMP:20260424T164832
CREATED:20241101T183815Z
LAST-MODIFIED:20241101T195526Z
UID:10000003-1730831400-1730845800@dysonfortexas.com
SUMMARY:2024 Election Night Watch Party
DESCRIPTION:
URL:https://dysonfortexas.com/event/2024-election-night-watch-party/
LOCATION:Phillips Event Center\, 1929 Country Club Dr\, Bryan\, TX\, 77802\, United States
ATTACH;FMTTYPE=image/png:https://dysonfortexas.com/wp-content/uploads/2024/11/Dyson-5NOV2024-Header.png
ORGANIZER;CN="Paul Dyson for Texas":MAILTO:contact@dysonfortexas.com
END:VEVENT
BEGIN:VEVENT
DTSTART;TZID=UTC:20240305T183000
DTEND;TZID=UTC:20240305T210000
DTSTAMP:20260424T164832
CREATED:20240302T163447Z
LAST-MODIFIED:20241101T195509Z
UID:10000002-1709663400-1709672400@dysonfortexas.com
SUMMARY:Election Night Watch Party
DESCRIPTION:
URL:https://dysonfortexas.com/event/election-night-watch-party-2024/
LOCATION:Brazos Cotton Exchange\, 200 S Main St\, Bryan\, 77803\, United States
ATTACH;FMTTYPE=image/jpeg:https://dysonfortexas.com/wp-content/uploads/2024/03/Dyson-2024-Watch-Party.jpg
ORGANIZER;CN="Paul Dyson for Texas":MAILTO:contact@dysonfortexas.com
END:VEVENT
BEGIN:VEVENT
DTSTART;TZID=America/Chicago:20240213T171500
DTEND;TZID=America/Chicago:20240213T193000
DTSTAMP:20260424T164832
CREATED:20240206T192037Z
LAST-MODIFIED:20240208T044713Z
UID:10000001-1707844500-1707852600@dysonfortexas.com
SUMMARY:Paul Dyson Campaign Rally with Gov. Greg Abbott
DESCRIPTION:
URL:https://dysonfortexas.com/event/paul-dyson-campaign-rally-with-gov-greg-abbott/
LOCATION:Pebble Creek Country Club\, 4500 Pebble Creek Pkwy\, College Station\, TX\, 77845\, United States
CATEGORIES:Campaign Rally
ATTACH;FMTTYPE=image/png:https://dysonfortexas.com/wp-content/uploads/2024/02/Dyson-Abbott-13FEB2024-2.png
ORGANIZER;CN="Paul Dyson for Texas":MAILTO:contact@dysonfortexas.com
END:VEVENT
END:VCALENDAR